BEGIN:VCALENDAR
VERSION:2.0
PRODID:-//Stronghold Quartet - ECPv6.15.20//NONSGML v1.0//EN
CALSCALE:GREGORIAN
METHOD:PUBLISH
X-WR-CALNAME:Stronghold Quartet
X-ORIGINAL-URL:https://strongholdquartet.com
X-WR-CALDESC:Events for Stronghold Quartet
REFRESH-INTERVAL;VALUE=DURATION:PT1H
X-Robots-Tag:noindex
X-PUBLISHED-TTL:PT1H
BEGIN:VTIMEZONE
TZID:America/Detroit
BEGIN:DAYLIGHT
TZOFFSETFROM:-0500
TZOFFSETTO:-0400
TZNAME:EDT
DTSTART:20250309T070000
END:DAYLIGHT
BEGIN:STANDARD
TZOFFSETFROM:-0400
TZOFFSETTO:-0500
TZNAME:EST
DTSTART:20251102T060000
END:STANDARD
BEGIN:DAYLIGHT
TZOFFSETFROM:-0500
TZOFFSETTO:-0400
TZNAME:EDT
DTSTART:20260308T070000
END:DAYLIGHT
BEGIN:STANDARD
TZOFFSETFROM:-0400
TZOFFSETTO:-0500
TZNAME:EST
DTSTART:20261101T060000
END:STANDARD
BEGIN:DAYLIGHT
TZOFFSETFROM:-0500
TZOFFSETTO:-0400
TZNAME:EDT
DTSTART:20270314T070000
END:DAYLIGHT
BEGIN:STANDARD
TZOFFSETFROM:-0400
TZOFFSETTO:-0500
TZNAME:EST
DTSTART:20271107T060000
END:STANDARD
END:VTIMEZONE
BEGIN:VEVENT
DTSTART;TZID=America/Detroit:20260913T110000
DTEND;TZID=America/Detroit:20260913T123000
DTSTAMP:20260425T171349
CREATED:20251227T024837Z
LAST-MODIFIED:20251227T024842Z
UID:2681-1789297200-1789302600@strongholdquartet.com
SUMMARY:Cornerstone Community Church
DESCRIPTION:
URL:https://strongholdquartet.com/event/cornerstone-community-church-7
LOCATION:Cornerstone Community Church\, 3030 Beckley Rd\, Battle Creek\, MI\, 49015\, United States
END:VEVENT
END:VCALENDAR