BEGIN:VCALENDAR
VERSION:2.0
PRODID:-//Stronghold Quartet - ECPv6.15.20//NONSGML v1.0//EN
CALSCALE:GREGORIAN
METHOD:PUBLISH
X-ORIGINAL-URL:https://strongholdquartet.com
X-WR-CALDESC:Events for Stronghold Quartet
REFRESH-INTERVAL;VALUE=DURATION:PT1H
X-Robots-Tag:noindex
X-PUBLISHED-TTL:PT1H
BEGIN:VTIMEZONE
TZID:America/Detroit
BEGIN:DAYLIGHT
TZOFFSETFROM:-0500
TZOFFSETTO:-0400
TZNAME:EDT
DTSTART:20250309T070000
END:DAYLIGHT
BEGIN:STANDARD
TZOFFSETFROM:-0400
TZOFFSETTO:-0500
TZNAME:EST
DTSTART:20251102T060000
END:STANDARD
BEGIN:DAYLIGHT
TZOFFSETFROM:-0500
TZOFFSETTO:-0400
TZNAME:EDT
DTSTART:20260308T070000
END:DAYLIGHT
BEGIN:STANDARD
TZOFFSETFROM:-0400
TZOFFSETTO:-0500
TZNAME:EST
DTSTART:20261101T060000
END:STANDARD
BEGIN:DAYLIGHT
TZOFFSETFROM:-0500
TZOFFSETTO:-0400
TZNAME:EDT
DTSTART:20270314T070000
END:DAYLIGHT
BEGIN:STANDARD
TZOFFSETFROM:-0400
TZOFFSETTO:-0500
TZNAME:EST
DTSTART:20271107T060000
END:STANDARD
END:VTIMEZONE
BEGIN:VEVENT
DTSTART;TZID=America/Detroit:20261108T100000
DTEND;TZID=America/Detroit:20261108T113000
DTSTAMP:20260425T202016
CREATED:20260321T024202Z
LAST-MODIFIED:20260321T024208Z
UID:2733-1794132000-1794137400@strongholdquartet.com
SUMMARY:Revive Global Methodist
DESCRIPTION:
URL:https://strongholdquartet.com/event/revive-global-methodist-3
LOCATION:Revive Global Methodist\, 6510 E Highland Road\, Howell\, MI\, 48843\, United States
END:VEVENT
BEGIN:VEVENT
DTSTART;TZID=America/Detroit:20261108T180000
DTEND;TZID=America/Detroit:20261108T193000
DTSTAMP:20260425T202016
CREATED:20260321T024510Z
LAST-MODIFIED:20260321T024516Z
UID:2735-1794160800-1794166200@strongholdquartet.com
SUMMARY:Colonial Hill Baptist Church
DESCRIPTION:
URL:https://strongholdquartet.com/event/colonial-hill-baptist-church-2
LOCATION:Colonial Hill Baptist Church\, 5373 W. Mt. Morrist Rd\, Mt. Morris\, MI\, 48458\, United States
END:VEVENT
END:VCALENDAR