BEGIN:VCALENDAR
VERSION:2.0
PRODID:-//Stronghold Quartet - ECPv6.15.20//NONSGML v1.0//EN
CALSCALE:GREGORIAN
METHOD:PUBLISH
X-WR-CALNAME:Stronghold Quartet
X-ORIGINAL-URL:https://strongholdquartet.com
X-WR-CALDESC:Events for Stronghold Quartet
REFRESH-INTERVAL;VALUE=DURATION:PT1H
X-Robots-Tag:noindex
X-PUBLISHED-TTL:PT1H
BEGIN:VTIMEZONE
TZID:America/Detroit
BEGIN:DAYLIGHT
TZOFFSETFROM:-0500
TZOFFSETTO:-0400
TZNAME:EDT
DTSTART:20250309T070000
END:DAYLIGHT
BEGIN:STANDARD
TZOFFSETFROM:-0400
TZOFFSETTO:-0500
TZNAME:EST
DTSTART:20251102T060000
END:STANDARD
BEGIN:DAYLIGHT
TZOFFSETFROM:-0500
TZOFFSETTO:-0400
TZNAME:EDT
DTSTART:20260308T070000
END:DAYLIGHT
BEGIN:STANDARD
TZOFFSETFROM:-0400
TZOFFSETTO:-0500
TZNAME:EST
DTSTART:20261101T060000
END:STANDARD
BEGIN:DAYLIGHT
TZOFFSETFROM:-0500
TZOFFSETTO:-0400
TZNAME:EDT
DTSTART:20270314T070000
END:DAYLIGHT
BEGIN:STANDARD
TZOFFSETFROM:-0400
TZOFFSETTO:-0500
TZNAME:EST
DTSTART:20271107T060000
END:STANDARD
END:VTIMEZONE
BEGIN:VEVENT
DTSTART;TZID=America/Detroit:20260426T093000
DTEND;TZID=America/Detroit:20260426T110000
DTSTAMP:20260423T112059
CREATED:20251227T022951Z
LAST-MODIFIED:20260321T151039Z
UID:2671-1777195800-1777201200@strongholdquartet.com
SUMMARY:Leslie United Methodist
DESCRIPTION:
URL:https://strongholdquartet.com/event/felt-plains-united-methodist-church-3
LOCATION:Leslie United Methodist\, 401 S Main St\, Leslie\, MI\, 49251\, United States
END:VEVENT
BEGIN:VEVENT
DTSTART;TZID=America/Detroit:20260503T104500
DTEND;TZID=America/Detroit:20260503T123000
DTSTAMP:20260423T112059
CREATED:20260108T024745Z
LAST-MODIFIED:20260321T022939Z
UID:2689-1777805100-1777811400@strongholdquartet.com
SUMMARY:Crossroads Church of God
DESCRIPTION:
URL:https://strongholdquartet.com/event/crossroads-church-of-god-4
LOCATION:Crossroads Church of God\, 3940 Pinckney Road\, Howell\, MI\, 48843\, United States
END:VEVENT
BEGIN:VEVENT
DTSTART;TZID=America/Detroit:20260614T110000
DTEND;TZID=America/Detroit:20260614T123000
DTSTAMP:20260423T112059
CREATED:20251227T023824Z
LAST-MODIFIED:20251227T023824Z
UID:2675-1781434800-1781440200@strongholdquartet.com
SUMMARY:Ypsilanti Baptist Temple
DESCRIPTION:
URL:https://strongholdquartet.com/event/ypsilanti-baptist-temple-9
LOCATION:Ypsilanti Baptist Temple\, 1325 E Cross St\, Ypsilanti\, MI\, 48198\, United States
END:VEVENT
BEGIN:VEVENT
DTSTART;TZID=America/Detroit:20260614T180000
DTEND;TZID=America/Detroit:20260614T193000
DTSTAMP:20260423T112059
CREATED:20260130T043759Z
LAST-MODIFIED:20260130T044125Z
UID:2705-1781460000-1781465400@strongholdquartet.com
SUMMARY:First Baptist Church-Hudson
DESCRIPTION:
URL:https://strongholdquartet.com/event/first-baptist-church-hudson
LOCATION:First Baptist Church Of Hudson\, 111 E. Main St\, Hudson\, MI\, 49247\, United States
END:VEVENT
BEGIN:VEVENT
DTSTART;TZID=America/Detroit:20260616T190000
DTEND;TZID=America/Detroit:20260616T203000
DTSTAMP:20260423T112059
CREATED:20260214T020519Z
LAST-MODIFIED:20260223T222631Z
UID:2710-1781636400-1781641800@strongholdquartet.com
SUMMARY:Fowlerville Centennial Park
DESCRIPTION:In case of rain the alternate date is\nThursday June 18th
URL:https://strongholdquartet.com/event/fowlerville-centennial-park-3
LOCATION:Fowlerville Centennial Park\, 230 N Grand St\, Fowlerville\, MI\, 48836\, United States
END:VEVENT
BEGIN:VEVENT
DTSTART;TZID=America/Detroit:20260712T100000
DTEND;TZID=America/Detroit:20260712T120000
DTSTAMP:20260423T112059
CREATED:20260108T025105Z
LAST-MODIFIED:20260214T021247Z
UID:2691-1783850400-1783857600@strongholdquartet.com
SUMMARY:Liberty Baptist Church
DESCRIPTION:Stronghold Quartet will be helping Liberty Baptist celebrate their 50 year anniversary!
URL:https://strongholdquartet.com/event/liberty-baptist-church-4
LOCATION:Liberty Baptist Church\, 599 Chilson Road\, Howell\, MI\, 48843\, United States
END:VEVENT
BEGIN:VEVENT
DTSTART;TZID=America/Detroit:20260726T110000
DTEND;TZID=America/Detroit:20260726T123000
DTSTAMP:20260423T112059
CREATED:20260214T023440Z
LAST-MODIFIED:20260223T221542Z
UID:2714-1785063600-1785069000@strongholdquartet.com
SUMMARY:Beginning in Grace
DESCRIPTION:This is a closed event
URL:https://strongholdquartet.com/event/beginning-in-grace-6
LOCATION:Beginning in Grace St Johns\, 1430 N Forest Hill Rd\, St Johns\, MI\, 48879\, United States
END:VEVENT
BEGIN:VEVENT
DTSTART;TZID=America/Detroit:20260816T110000
DTEND;TZID=America/Detroit:20260816T123000
DTSTAMP:20260423T112059
CREATED:20251227T023516Z
LAST-MODIFIED:20260214T021506Z
UID:2673-1786878000-1786883400@strongholdquartet.com
SUMMARY:Okemo's Church of the Nazarene
DESCRIPTION:
URL:https://strongholdquartet.com/event/okemos-church-of-the-nazarene-5
LOCATION:Okemos Church of the Nazarene\, 1906 Hamilton Rd\, Okemos\, MI\, 48864\, United States
END:VEVENT
BEGIN:VEVENT
DTSTART;TZID=America/Detroit:20260816T193000
DTEND;TZID=America/Detroit:20260816T210000
DTSTAMP:20260423T112059
CREATED:20251227T024203Z
LAST-MODIFIED:20251227T024208Z
UID:2679-1786908600-1786914000@strongholdquartet.com
SUMMARY:SUMMERPraise
DESCRIPTION:
URL:https://strongholdquartet.com/event/summerpraise-4
LOCATION:Owosso First Church of the Nazarene\, 1865 South M-52\, Owosso\, 48867
END:VEVENT
BEGIN:VEVENT
DTSTART;TZID=America/Detroit:20260830T180000
DTEND;TZID=America/Detroit:20260830T193000
DTSTAMP:20260423T112059
CREATED:20260214T024525Z
LAST-MODIFIED:20260214T024531Z
UID:2720-1788112800-1788118200@strongholdquartet.com
SUMMARY:Gun Lake Chapel
DESCRIPTION:
URL:https://strongholdquartet.com/event/gun-lake-chapel-5
LOCATION:Gun Lake Chapel\, 2901 S Patterson Avenue\, Wayland\, MI\, 49348\, United States
END:VEVENT
BEGIN:VEVENT
DTSTART;TZID=America/Detroit:20260913T110000
DTEND;TZID=America/Detroit:20260913T123000
DTSTAMP:20260423T112059
CREATED:20251227T024837Z
LAST-MODIFIED:20251227T024842Z
UID:2681-1789297200-1789302600@strongholdquartet.com
SUMMARY:Cornerstone Community Church
DESCRIPTION:
URL:https://strongholdquartet.com/event/cornerstone-community-church-7
LOCATION:Cornerstone Community Church\, 3030 Beckley Rd\, Battle Creek\, MI\, 49015\, United States
END:VEVENT
BEGIN:VEVENT
DTSTART;TZID=America/Detroit:20260927T110000
DTEND;TZID=America/Detroit:20260927T123000
DTSTAMP:20260423T112059
CREATED:20251103T014234Z
LAST-MODIFIED:20251103T014234Z
UID:2644-1790506800-1790512200@strongholdquartet.com
SUMMARY:Fowlerville Church of the Nazarene Pavilion
DESCRIPTION:
URL:https://strongholdquartet.com/event/fowlerville-church-of-the-nazarene-pavilion-3
LOCATION:Fowlerville Church of the Nazarene Pavilion\, 8288 Sargent Rd\, Fowlerville\, MI\, 48836\, United States
END:VEVENT
BEGIN:VEVENT
DTSTART;TZID=America/Detroit:20261004T173000
DTEND;TZID=America/Detroit:20261004T193000
DTSTAMP:20260423T112059
CREATED:20251008T233929Z
LAST-MODIFIED:20260110T031719Z
UID:2631-1791135000-1791142200@strongholdquartet.com
SUMMARY:South Olive CRC
DESCRIPTION:
URL:https://strongholdquartet.com/event/south-olive-crc
LOCATION:South Olive CRC\, 6425 120th Ave\, Holland\, MI\, 49424\, United States
END:VEVENT
BEGIN:VEVENT
DTSTART;TZID=America/Detroit:20261011T103000
DTEND;TZID=America/Detroit:20261011T120000
DTSTAMP:20260423T112059
CREATED:20250216T030600Z
LAST-MODIFIED:20260110T031944Z
UID:2600-1791714600-1791720000@strongholdquartet.com
SUMMARY:Wood Brook Cathedral
DESCRIPTION:
URL:https://strongholdquartet.com/event/wood-brook-cathedral-7
LOCATION:Wood Brook Cathedral\, 1739 Providence St NE\, Grand Rapids\, MI\, 49525\, United States
END:VEVENT
BEGIN:VEVENT
DTSTART;TZID=America/Detroit:20261025T110000
DTEND;TZID=America/Detroit:20261025T123000
DTSTAMP:20260423T112059
CREATED:20251103T013829Z
LAST-MODIFIED:20251103T014729Z
UID:2640-1792926000-1792931400@strongholdquartet.com
SUMMARY:Fowlerville First United Methodist Church
DESCRIPTION:
URL:https://strongholdquartet.com/event/fowlerville-first-united-methodist-church-7
LOCATION:Fowlerville First United Methodist Church\, 201 S. Second Street\, Fowlerville\, MI\, 48836\, United States
END:VEVENT
BEGIN:VEVENT
DTSTART;TZID=America/Detroit:20261108T100000
DTEND;TZID=America/Detroit:20261108T113000
DTSTAMP:20260423T112059
CREATED:20260321T024202Z
LAST-MODIFIED:20260321T024208Z
UID:2733-1794132000-1794137400@strongholdquartet.com
SUMMARY:Revive Global Methodist
DESCRIPTION:
URL:https://strongholdquartet.com/event/revive-global-methodist-3
LOCATION:Revive Global Methodist\, 6510 E Highland Road\, Howell\, MI\, 48843\, United States
END:VEVENT
BEGIN:VEVENT
DTSTART;TZID=America/Detroit:20261108T180000
DTEND;TZID=America/Detroit:20261108T193000
DTSTAMP:20260423T112059
CREATED:20260321T024510Z
LAST-MODIFIED:20260321T024516Z
UID:2735-1794160800-1794166200@strongholdquartet.com
SUMMARY:Colonial Hill Baptist Church
DESCRIPTION:
URL:https://strongholdquartet.com/event/colonial-hill-baptist-church-2
LOCATION:Colonial Hill Baptist Church\, 5373 W. Mt. Morrist Rd\, Mt. Morris\, MI\, 48458\, United States
END:VEVENT
BEGIN:VEVENT
DTSTART;TZID=America/Detroit:20261115T110000
DTEND;TZID=America/Detroit:20261115T123000
DTSTAMP:20260423T112059
CREATED:20260214T025400Z
LAST-MODIFIED:20260214T025406Z
UID:2722-1794740400-1794745800@strongholdquartet.com
SUMMARY:Bethany Church of God
DESCRIPTION:
URL:https://strongholdquartet.com/event/bethany-church-of-god-2
LOCATION:Bethany Church of God\, 11600 Clinton River Rd\, Sterling Heights\, MI\, 48313\, United States
END:VEVENT
BEGIN:VEVENT
DTSTART;TZID=America/Detroit:20261207T180000
DTEND;TZID=America/Detroit:20261207T193000
DTSTAMP:20260423T112059
CREATED:20250605T235452Z
LAST-MODIFIED:20260110T032223Z
UID:2624-1796666400-1796671800@strongholdquartet.com
SUMMARY:Thrive Banquet
DESCRIPTION:Closed Event for the Thrive Group
URL:https://strongholdquartet.com/event/thrive-banquet
LOCATION:Ruggero’s Italian Restaurant\, 5311 Corunna Road\, Flint\, MI\, 48532\, United States
END:VEVENT
END:VCALENDAR