BEGIN:VCALENDAR
VERSION:2.0
PRODID:-//Stronghold Quartet - ECPv6.15.20//NONSGML v1.0//EN
CALSCALE:GREGORIAN
METHOD:PUBLISH
X-WR-CALNAME:Stronghold Quartet
X-ORIGINAL-URL:https://strongholdquartet.com
X-WR-CALDESC:Events for Stronghold Quartet
REFRESH-INTERVAL;VALUE=DURATION:PT1H
X-Robots-Tag:noindex
X-PUBLISHED-TTL:PT1H
BEGIN:VTIMEZONE
TZID:America/Detroit
BEGIN:DAYLIGHT
TZOFFSETFROM:-0500
TZOFFSETTO:-0400
TZNAME:EDT
DTSTART:20230312T070000
END:DAYLIGHT
BEGIN:STANDARD
TZOFFSETFROM:-0400
TZOFFSETTO:-0500
TZNAME:EST
DTSTART:20231105T060000
END:STANDARD
BEGIN:DAYLIGHT
TZOFFSETFROM:-0500
TZOFFSETTO:-0400
TZNAME:EDT
DTSTART:20240310T070000
END:DAYLIGHT
BEGIN:STANDARD
TZOFFSETFROM:-0400
TZOFFSETTO:-0500
TZNAME:EST
DTSTART:20241103T060000
END:STANDARD
BEGIN:DAYLIGHT
TZOFFSETFROM:-0500
TZOFFSETTO:-0400
TZNAME:EDT
DTSTART:20250309T070000
END:DAYLIGHT
BEGIN:STANDARD
TZOFFSETFROM:-0400
TZOFFSETTO:-0500
TZNAME:EST
DTSTART:20251102T060000
END:STANDARD
BEGIN:DAYLIGHT
TZOFFSETFROM:-0500
TZOFFSETTO:-0400
TZNAME:EDT
DTSTART:20260308T070000
END:DAYLIGHT
BEGIN:STANDARD
TZOFFSETFROM:-0400
TZOFFSETTO:-0500
TZNAME:EST
DTSTART:20261101T060000
END:STANDARD
END:VTIMEZONE
BEGIN:VEVENT
DTSTART;TZID=America/Detroit:20250817T193000
DTEND;TZID=America/Detroit:20250817T210000
DTSTAMP:20260425T191934
CREATED:20250216T021514Z
LAST-MODIFIED:20250216T021518Z
UID:2580-1755459000-1755464400@strongholdquartet.com
SUMMARY:SUMMERPraise
DESCRIPTION:
URL:https://strongholdquartet.com/event/summerpraise-3
LOCATION:Owosso First Church of the Nazarene\, 1865 South M-52\, Owosso\, 48867
END:VEVENT
BEGIN:VEVENT
DTSTART;TZID=America/Detroit:20250817T100000
DTEND;TZID=America/Detroit:20250817T120000
DTSTAMP:20260425T191934
CREATED:20250216T021247Z
LAST-MODIFIED:20250812T021546Z
UID:2578-1755424800-1755432000@strongholdquartet.com
SUMMARY:Fowlerville Church of the Nazarene Pavilion
DESCRIPTION:
URL:https://strongholdquartet.com/event/fowlerville-church-of-the-nazarene-pavilion-2
LOCATION:Fowlerville Church of the Nazarene Pavilion\, 8288 Sargent Rd\, Fowlerville\, MI\, 48836\, United States
END:VEVENT
BEGIN:VEVENT
DTSTART;TZID=America/Detroit:20250816T180000
DTEND;TZID=America/Detroit:20250816T200000
DTSTAMP:20260425T191935
CREATED:20250216T020939Z
LAST-MODIFIED:20250216T020939Z
UID:2574-1755367200-1755374400@strongholdquartet.com
SUMMARY:Gospel Music Barn
DESCRIPTION:
URL:https://strongholdquartet.com/event/gospel-music-barn
LOCATION:Gospel Music Barn\, 6881 64th Ave\, Hudsonville\, MI\, 49426\, United States
END:VEVENT
BEGIN:VEVENT
DTSTART;TZID=America/Detroit:20250803T100000
DTEND;TZID=America/Detroit:20250803T113000
DTSTAMP:20260425T191935
CREATED:20250216T020029Z
LAST-MODIFIED:20250216T020035Z
UID:2572-1754215200-1754220600@strongholdquartet.com
SUMMARY:Liberty Baptist Church
DESCRIPTION:
URL:https://strongholdquartet.com/event/liberty-baptist-church-3
LOCATION:Liberty Baptist Church\, 599 Chilson Road\, Howell\, MI\, 48843\, United States
END:VEVENT
BEGIN:VEVENT
DTSTART;TZID=America/Detroit:20250622T100000
DTEND;TZID=America/Detroit:20250622T113000
DTSTAMP:20260425T191935
CREATED:20250216T015513Z
LAST-MODIFIED:20250216T015513Z
UID:2570-1750586400-1750591800@strongholdquartet.com
SUMMARY:Lapeer Church of the Nazarene
DESCRIPTION:
URL:https://strongholdquartet.com/event/lapeer-church-of-the-nazarene-3
LOCATION:Lapeer Church of the Nazarene\, 3521 Fort Knox Dr\, Lapeer\, MI\, 48446\, United States
END:VEVENT
BEGIN:VEVENT
DTSTART;TZID=America/Detroit:20250608T110000
DTEND;TZID=America/Detroit:20250608T123000
DTSTAMP:20260425T191935
CREATED:20250216T015315Z
LAST-MODIFIED:20250216T015319Z
UID:2568-1749380400-1749385800@strongholdquartet.com
SUMMARY:Okemos Church of the Nazarene
DESCRIPTION:
URL:https://strongholdquartet.com/event/okemos-church-of-the-nazarene-4
LOCATION:Okemos Church of the Nazarene\, 1906 Hamilton Rd\, Okemos\, MI\, 48864\, United States
END:VEVENT
BEGIN:VEVENT
DTSTART;TZID=America/Detroit:20250518T180000
DTEND;TZID=America/Detroit:20250518T193000
DTSTAMP:20260425T191935
CREATED:20250328T005936Z
LAST-MODIFIED:20250328T005942Z
UID:2616-1747591200-1747596600@strongholdquartet.com
SUMMARY:Bethany Church of God
DESCRIPTION:
URL:https://strongholdquartet.com/event/bethany-church-of-god
LOCATION:Bethany Church of God\, 11600 Clinton River Rd\, Sterling Heights\, MI\, 48313\, United States
END:VEVENT
BEGIN:VEVENT
DTSTART;TZID=America/Detroit:20250518T110000
DTEND;TZID=America/Detroit:20250518T123000
DTSTAMP:20260425T191935
CREATED:20250216T015129Z
LAST-MODIFIED:20250216T015129Z
UID:2566-1747566000-1747571400@strongholdquartet.com
SUMMARY:Ypsilanti Baptist Temple
DESCRIPTION:
URL:https://strongholdquartet.com/event/ypsilanti-baptist-temple-8
LOCATION:Ypsilanti Baptist Temple\, 1325 E Cross St\, Ypsilanti\, MI\, 48198\, United States
END:VEVENT
BEGIN:VEVENT
DTSTART;TZID=America/Detroit:20250504T104500
DTEND;TZID=America/Detroit:20250504T123000
DTSTAMP:20260425T191935
CREATED:20250216T014818Z
LAST-MODIFIED:20250216T014818Z
UID:2563-1746355500-1746361800@strongholdquartet.com
SUMMARY:Crossroads Church of God
DESCRIPTION:
URL:https://strongholdquartet.com/event/crossroads-church-of-god-3
LOCATION:Crossroads Church of God\, 3940 Pinckney Road\, Howell\, MI\, 48843\, United States
END:VEVENT
BEGIN:VEVENT
DTSTART;TZID=America/Detroit:20250413T110000
DTEND;TZID=America/Detroit:20250413T123000
DTSTAMP:20260425T191935
CREATED:20250216T013635Z
LAST-MODIFIED:20250216T013635Z
UID:2559-1744542000-1744547400@strongholdquartet.com
SUMMARY:Edgetts Wesleyan Church
DESCRIPTION:
URL:https://strongholdquartet.com/event/edgetts-wesleyan-church
LOCATION:Edgetts Wesleyan\, 3446 N. Raymond Road\, Luther\, MI\, 49656\, United States
END:VEVENT
BEGIN:VEVENT
DTSTART;TZID=America/Detroit:20250406T104500
DTEND;TZID=America/Detroit:20250406T123000
DTSTAMP:20260425T191935
CREATED:20250216T012335Z
LAST-MODIFIED:20250216T012339Z
UID:2557-1743936300-1743942600@strongholdquartet.com
SUMMARY:Hillsdale Community Church of the Nazarene
DESCRIPTION:
URL:https://strongholdquartet.com/event/hillsdale-community-church-of-the-nazarene-2
LOCATION:Hillsdale Community Church of the Nazarene\, 208 N. West St\, Hillsdale\, MI\, 49242\, United States
END:VEVENT
BEGIN:VEVENT
DTSTART;TZID=America/Detroit:20250329T100000
DTEND;TZID=America/Detroit:20250329T110000
DTSTAMP:20260425T191935
CREATED:20250216T012012Z
LAST-MODIFIED:20250328T003028Z
UID:2553-1743242400-1743246000@strongholdquartet.com
SUMMARY:First Church of Christ
DESCRIPTION:Closed Event.  Women’s Event
URL:https://strongholdquartet.com/event/first-church-of-christ
LOCATION:First Church of Christ\, 585 E. North Street\, Owosso\, MI\, 48867\, United States
END:VEVENT
BEGIN:VEVENT
DTSTART;TZID=America/Detroit:20250316T110000
DTEND;TZID=America/Detroit:20250316T123000
DTSTAMP:20260425T191935
CREATED:20250216T010707Z
LAST-MODIFIED:20250216T010712Z
UID:2549-1742122800-1742128200@strongholdquartet.com
SUMMARY:Millville United Methodist Church
DESCRIPTION:
URL:https://strongholdquartet.com/event/millville-united-methodist-church-3
LOCATION:Millville United Methodist Church\, 1932 N M-52\, Stockbridge\, MI\, 49285\, United States
END:VEVENT
BEGIN:VEVENT
DTSTART;TZID=America/Detroit:20250302T093000
DTEND;TZID=America/Detroit:20250302T230000
DTSTAMP:20260425T191935
CREATED:20250216T010422Z
LAST-MODIFIED:20250216T010513Z
UID:2545-1740907800-1740956400@strongholdquartet.com
SUMMARY:Felt Plains United Methodist Church
DESCRIPTION:
URL:https://strongholdquartet.com/event/felt-plains-united-methodist-church-2
LOCATION:Felt Plains United Methodist Church\, 3500 Meridan Rd\, Leslie\, MI\, 49251\, United States
END:VEVENT
BEGIN:VEVENT
DTSTART;TZID=America/Detroit:20250216T180000
DTEND;TZID=America/Detroit:20250216T193000
DTSTAMP:20260425T191935
CREATED:20250216T005743Z
LAST-MODIFIED:20250216T005748Z
UID:2543-1739728800-1739734200@strongholdquartet.com
SUMMARY:Argentine Church of the Nazarene
DESCRIPTION:
URL:https://strongholdquartet.com/event/argentine-church-of-the-nazarene-6
LOCATION:Argentine Church of the Nazarene\, 16248 Seymour Rd\, Linden\, MI\, 48451\, United States
END:VEVENT
BEGIN:VEVENT
DTSTART;TZID=America/Detroit:20250209T100000
DTEND;TZID=America/Detroit:20250209T233000
DTSTAMP:20260425T191935
CREATED:20250216T005100Z
LAST-MODIFIED:20250216T005100Z
UID:2535-1739095200-1739143800@strongholdquartet.com
SUMMARY:Beginning In Grace
DESCRIPTION:
URL:https://strongholdquartet.com/event/beginning-in-grace-4
LOCATION:Beginning In Grace\, 200 East River St\, Grand Ledge\, MI\, 48837\, United States
END:VEVENT
BEGIN:VEVENT
DTSTART;TZID=America/Detroit:20241124T110000
DTEND;TZID=America/Detroit:20241124T123000
DTSTAMP:20260425T191935
CREATED:20240418T235906Z
LAST-MODIFIED:20240418T235911Z
UID:2524-1732446000-1732451400@strongholdquartet.com
SUMMARY:Fowlerville Church of the Nazarene
DESCRIPTION:
URL:https://strongholdquartet.com/event/fowlerville-church-of-the-nazarene-4
LOCATION:Fowlerville Church of the Nazarene\, 8040 Country Coner Dr\, Fowlerville\, MI\, 48836\, United States
END:VEVENT
BEGIN:VEVENT
DTSTART;TZID=America/Detroit:20241110T180000
DTEND;TZID=America/Detroit:20241110T180000
DTSTAMP:20260425T191935
CREATED:20240216T201052Z
LAST-MODIFIED:20240216T201058Z
UID:2517-1731261600-1731261600@strongholdquartet.com
SUMMARY:Colonial Hill Baptist Church
DESCRIPTION:
URL:https://strongholdquartet.com/event/colonial-hill-baptist-church
LOCATION:Colonial Hill Baptist Church\, 5373 W. Mt. Morrist Rd\, Mt. Morris\, MI\, 48458\, United States
END:VEVENT
BEGIN:VEVENT
DTSTART;TZID=America/Detroit:20241110T100000
DTEND;TZID=America/Detroit:20241110T120000
DTSTAMP:20260425T191935
CREATED:20240216T200411Z
LAST-MODIFIED:20240216T200759Z
UID:2514-1731232800-1731240000@strongholdquartet.com
SUMMARY:Revive Global Methodist
DESCRIPTION:
URL:https://strongholdquartet.com/event/revive-global-methodist
LOCATION:Revive Global Methodist\, 6510 E Highland Road\, Howell\, MI\, 48843\, United States
END:VEVENT
BEGIN:VEVENT
DTSTART;TZID=America/Detroit:20241027T110000
DTEND;TZID=America/Detroit:20241027T120000
DTSTAMP:20260425T191935
CREATED:20230114T163352Z
LAST-MODIFIED:20231201T005629Z
UID:2108-1730026800-1730030400@strongholdquartet.com
SUMMARY:Fowlerville First United Methodist Church
DESCRIPTION:
URL:https://strongholdquartet.com/event/fowlerville-first-united-methodist-church-5
LOCATION:Fowlerville First United Methodist Church\, 201 S. Second Street\, Fowlerville\, MI\, 48836\, United States
END:VEVENT
BEGIN:VEVENT
DTSTART;TZID=America/Detroit:20241020T103000
DTEND;TZID=America/Detroit:20241020T120000
DTSTAMP:20260425T191935
CREATED:20240111T035827Z
LAST-MODIFIED:20240111T035827Z
UID:2426-1729420200-1729425600@strongholdquartet.com
SUMMARY:Wood Brook Cathedral
DESCRIPTION:
URL:https://strongholdquartet.com/event/wood-brook-cathedral-6
LOCATION:Wood Brook Cathedral\, 1739 Providence St NE\, Grand Rapids\, MI\, 49525\, United States
END:VEVENT
BEGIN:VEVENT
DTSTART;TZID=America/Detroit:20240922T180000
DTEND;TZID=America/Detroit:20240922T200000
DTSTAMP:20260425T191935
CREATED:20240207T050409Z
LAST-MODIFIED:20240207T050413Z
UID:2494-1727028000-1727035200@strongholdquartet.com
SUMMARY:Rush Creek Bible Church
DESCRIPTION:
URL:https://strongholdquartet.com/event/rush-creek-bible-church-3
LOCATION:Rush Creek Bible Church\, 2334 76th St SW\, Byron Center\, MI\, 49315\, United States
END:VEVENT
BEGIN:VEVENT
DTSTART;TZID=America/Detroit:20240922T110000
DTEND;TZID=America/Detroit:20240922T123000
DTSTAMP:20260425T191935
CREATED:20240207T045822Z
LAST-MODIFIED:20240207T050136Z
UID:2490-1727002800-1727008200@strongholdquartet.com
SUMMARY:Cornerstone Community Church
DESCRIPTION:
URL:https://strongholdquartet.com/event/cornerstone-community-church-5
LOCATION:Conerstone Community Church\, 3030 Beckley Rd\, Battle Creek\, MI\, 49015\, United States
END:VEVENT
BEGIN:VEVENT
DTSTART;TZID=America/Detroit:20240915T110000
DTEND;TZID=America/Detroit:20240915T123000
DTSTAMP:20260425T191935
CREATED:20221205T030221Z
LAST-MODIFIED:20240418T235422Z
UID:2087-1726398000-1726403400@strongholdquartet.com
SUMMARY:Fowlerville Church of the Nazarene Pavilion
DESCRIPTION:
URL:https://strongholdquartet.com/event/fowlerville-church-of-the-nazarene-pavilion
LOCATION:Fowlerville Church of the Nazarene Pavilion\, 8288 Sargent Rd\, Fowlerville\, MI\, 48836\, United States
END:VEVENT
BEGIN:VEVENT
DTSTART;TZID=America/Detroit:20240908T103000
DTEND;TZID=America/Detroit:20240908T120000
DTSTAMP:20260425T191935
CREATED:20240207T045344Z
LAST-MODIFIED:20240207T045351Z
UID:2486-1725791400-1725796800@strongholdquartet.com
SUMMARY:Calvary Church
DESCRIPTION:
URL:https://strongholdquartet.com/event/calvary-church
LOCATION:Calvary Church\, 500 Howard St.\, Webberville\, MI\, 48892\, United States
END:VEVENT
BEGIN:VEVENT
DTSTART;TZID=America/Detroit:20240901T180000
DTEND;TZID=America/Detroit:20240901T200000
DTSTAMP:20260425T191935
CREATED:20240111T035248Z
LAST-MODIFIED:20240111T035248Z
UID:2424-1725213600-1725220800@strongholdquartet.com
SUMMARY:Gun Lake Chapel
DESCRIPTION:
URL:https://strongholdquartet.com/event/gun-lake-chapel-3
LOCATION:Gun Lake Chapel\, 2901 S Patterson Avenue\, Wayland\, MI\, 49348\, United States
END:VEVENT
BEGIN:VEVENT
DTSTART;TZID=America/Detroit:20240811T193000
DTEND;TZID=America/Detroit:20240811T210000
DTSTAMP:20260425T191936
CREATED:20240111T034939Z
LAST-MODIFIED:20240111T034939Z
UID:2422-1723404600-1723410000@strongholdquartet.com
SUMMARY:SUMMERPraise
DESCRIPTION:
URL:https://strongholdquartet.com/event/summerpraise-2
LOCATION:Owosso First Church of the Nazarene\, 1865 South M-52\, Owosso\, 48867
END:VEVENT
BEGIN:VEVENT
DTSTART;TZID=America/Detroit:20240716T190000
DTEND;TZID=America/Detroit:20240716T203000
DTSTAMP:20260425T191936
CREATED:20240112T023017Z
LAST-MODIFIED:20240523T225354Z
UID:2428-1721156400-1721161800@strongholdquartet.com
SUMMARY:Fowlerville Community Park
DESCRIPTION:
URL:https://strongholdquartet.com/event/fowlerville-centennial-park
LOCATION:Fowlerville Community Park\, 425 N. Grand St.\, Fowlerville\, MI\, 48836\, United States
END:VEVENT
BEGIN:VEVENT
DTSTART;TZID=America/Detroit:20240714T180000
DTEND;TZID=America/Detroit:20240714T200000
DTSTAMP:20260425T191936
CREATED:20240111T034324Z
LAST-MODIFIED:20240308T021240Z
UID:2420-1720980000-1720987200@strongholdquartet.com
SUMMARY:First Baptist Church of Hudson
DESCRIPTION:
URL:https://strongholdquartet.com/event/first-baptist-church-of-hudson-2
LOCATION:First Baptist Church Of Hudson\, 111 E. Main St\, Hudson\, MI\, 49247\, United States
END:VEVENT
BEGIN:VEVENT
DTSTART;TZID=America/Detroit:20240630T100000
DTEND;TZID=America/Detroit:20240630T120000
DTSTAMP:20260425T191936
CREATED:20240207T043508Z
LAST-MODIFIED:20240207T043508Z
UID:2481-1719741600-1719748800@strongholdquartet.com
SUMMARY:Lapeer Church of the Nazarene
DESCRIPTION:
URL:https://strongholdquartet.com/event/lapeer-church-of-the-nazarene-2
LOCATION:Lapeer Church of the Nazarene\, 3521 Fort Knox Dr\, Lapeer\, MI\, 48446\, United States
END:VEVENT
END:VCALENDAR