BEGIN:VCALENDAR
VERSION:2.0
PRODID:-//Stronghold Quartet - ECPv6.15.20//NONSGML v1.0//EN
CALSCALE:GREGORIAN
METHOD:PUBLISH
X-WR-CALNAME:Stronghold Quartet
X-ORIGINAL-URL:https://strongholdquartet.com
X-WR-CALDESC:Events for Stronghold Quartet
REFRESH-INTERVAL;VALUE=DURATION:PT1H
X-Robots-Tag:noindex
X-PUBLISHED-TTL:PT1H
BEGIN:VTIMEZONE
TZID:America/Detroit
BEGIN:DAYLIGHT
TZOFFSETFROM:-0500
TZOFFSETTO:-0400
TZNAME:EDT
DTSTART:20220313T070000
END:DAYLIGHT
BEGIN:STANDARD
TZOFFSETFROM:-0400
TZOFFSETTO:-0500
TZNAME:EST
DTSTART:20221106T060000
END:STANDARD
BEGIN:DAYLIGHT
TZOFFSETFROM:-0500
TZOFFSETTO:-0400
TZNAME:EDT
DTSTART:20230312T070000
END:DAYLIGHT
BEGIN:STANDARD
TZOFFSETFROM:-0400
TZOFFSETTO:-0500
TZNAME:EST
DTSTART:20231105T060000
END:STANDARD
BEGIN:DAYLIGHT
TZOFFSETFROM:-0500
TZOFFSETTO:-0400
TZNAME:EDT
DTSTART:20240310T070000
END:DAYLIGHT
BEGIN:STANDARD
TZOFFSETFROM:-0400
TZOFFSETTO:-0500
TZNAME:EST
DTSTART:20241103T060000
END:STANDARD
BEGIN:DAYLIGHT
TZOFFSETFROM:-0500
TZOFFSETTO:-0400
TZNAME:EDT
DTSTART:20250309T070000
END:DAYLIGHT
BEGIN:STANDARD
TZOFFSETFROM:-0400
TZOFFSETTO:-0500
TZNAME:EST
DTSTART:20251102T060000
END:STANDARD
END:VTIMEZONE
BEGIN:VEVENT
DTSTART;TZID=America/Detroit:20240414T110000
DTEND;TZID=America/Detroit:20240414T120000
DTSTAMP:20260425T222814
CREATED:20240111T032319Z
LAST-MODIFIED:20240111T032319Z
UID:2416-1713092400-1713096000@strongholdquartet.com
SUMMARY:Ypsilanti Baptist Temple
DESCRIPTION:
URL:https://strongholdquartet.com/event/ypsilanti-baptist-temple-7
LOCATION:Ypsilanti Baptist Temple\, 1325 E Cross St\, Ypsilanti\, MI\, 48198\, United States
END:VEVENT
BEGIN:VEVENT
DTSTART;TZID=America/Detroit:20240407T083000
DTEND;TZID=America/Detroit:20240407T120000
DTSTAMP:20260425T222814
CREATED:20240207T041939Z
LAST-MODIFIED:20240207T042034Z
UID:2472-1712478600-1712491200@strongholdquartet.com
SUMMARY:Swartz Creek Community Church
DESCRIPTION:
URL:https://strongholdquartet.com/event/swartz-creek-community-church
LOCATION:Swartz Creek Community Church\, 7400 Miller Road\, Swartz Creek\, MI\, 48473\, United States
END:VEVENT
BEGIN:VEVENT
DTSTART;TZID=America/Detroit:20240310T110000
DTEND;TZID=America/Detroit:20240310T123000
DTSTAMP:20260425T222814
CREATED:20240207T041053Z
LAST-MODIFIED:20240207T041053Z
UID:2469-1710068400-1710073800@strongholdquartet.com
SUMMARY:Millville United Methodist Church
DESCRIPTION:
URL:https://strongholdquartet.com/event/millville-united-methodist-church-2
LOCATION:Millville United Methodist Church\, 1932 N M-52\, Stockbridge\, MI\, 49285\, United States
END:VEVENT
BEGIN:VEVENT
DTSTART;TZID=America/Detroit:20240211T110000
DTEND;TZID=America/Detroit:20240211T120000
DTSTAMP:20260425T222814
CREATED:20240111T031724Z
LAST-MODIFIED:20240111T031724Z
UID:2412-1707649200-1707652800@strongholdquartet.com
SUMMARY:Faith Church of Gaines
DESCRIPTION:
URL:https://strongholdquartet.com/event/faith-church-of-gaines-3
LOCATION:Faith Church of Gaines\, 303 Walnut St\, Gaines\, MI\, 48436\, United States
END:VEVENT
BEGIN:VEVENT
DTSTART;TZID=America/Detroit:20240204T100000
DTEND;TZID=America/Detroit:20240204T120000
DTSTAMP:20260425T222814
CREATED:20240111T031059Z
LAST-MODIFIED:20240111T031059Z
UID:2410-1707040800-1707048000@strongholdquartet.com
SUMMARY:Beginning in Grace Church
DESCRIPTION:
URL:https://strongholdquartet.com/event/beginning-in-grace-church
LOCATION:Beginning In Grace\, 200 East River St\, Grand Ledge\, MI\, 48837\, United States
END:VEVENT
BEGIN:VEVENT
DTSTART;TZID=America/Detroit:20240110T080000
DTEND;TZID=America/Detroit:20240110T170000
DTSTAMP:20260425T222814
CREATED:20240111T032043Z
LAST-MODIFIED:20240111T032043Z
UID:2414-1704873600-1704906000@strongholdquartet.com
SUMMARY:Ypsilanti Baptist Temple
DESCRIPTION:
URL:https://strongholdquartet.com/event/ypsilanti-baptist-temple-6
LOCATION:Ypsilanti Baptist Temple\, 1325 E Cross St\, Ypsilanti\, MI\, 48198\, United States
END:VEVENT
BEGIN:VEVENT
DTSTART;TZID=America/Detroit:20231119T180000
DTEND;TZID=America/Detroit:20231119T193000
DTSTAMP:20260425T222814
CREATED:20230114T152637Z
LAST-MODIFIED:20230114T152637Z
UID:2106-1700416800-1700422200@strongholdquartet.com
SUMMARY:Argentine Church of the Nazarene
DESCRIPTION:
URL:https://strongholdquartet.com/event/argentine-church-of-the-nazarene-5
LOCATION:Argentine Church of the Nazarene\, 16248 Seymour Rd\, Linden\, MI\, 48451\, United States
END:VEVENT
BEGIN:VEVENT
DTSTART;TZID=America/Detroit:20231105T180000
DTEND;TZID=America/Detroit:20231105T200000
DTSTAMP:20260425T222814
CREATED:20230128T173450Z
LAST-MODIFIED:20230128T173500Z
UID:2133-1699207200-1699214400@strongholdquartet.com
SUMMARY:Colonial Hills Baptist Church
DESCRIPTION:
URL:https://strongholdquartet.com/event/colonial-hills-baptist-church-2
LOCATION:Colonial Hill Baptist Church\, 5373 W. Mt. Morrist Rd\, Mt. Morris\, MI\, 48458\, United States
END:VEVENT
BEGIN:VEVENT
DTSTART;TZID=America/Detroit:20231105T100000
DTEND;TZID=America/Detroit:20231105T120000
DTSTAMP:20260425T222814
CREATED:20230128T174442Z
LAST-MODIFIED:20230128T174446Z
UID:2136-1699178400-1699185600@strongholdquartet.com
SUMMARY:Hardy United Methodist Church
DESCRIPTION:
URL:https://strongholdquartet.com/event/hardy-united-methodist-church-2
LOCATION:Revive Global Methodist\, 6510 E Highland Road\, Howell\, MI\, 48843\, United States
END:VEVENT
BEGIN:VEVENT
DTSTART;TZID=America/Detroit:20231008T103000
DTEND;TZID=America/Detroit:20231008T120000
DTSTAMP:20260425T222814
CREATED:20230114T163700Z
LAST-MODIFIED:20230114T163700Z
UID:2110-1696761000-1696766400@strongholdquartet.com
SUMMARY:Wood Brook Cathedral
DESCRIPTION:
URL:https://strongholdquartet.com/event/wood-brook-cathedral-5
LOCATION:Wood Brook Cathedral\, 1739 Providence St NE\, Grand Rapids\, MI\, 49525\, United States
END:VEVENT
BEGIN:VEVENT
DTSTART;TZID=America/Detroit:20230929T190000
DTEND;TZID=America/Detroit:20230929T210000
DTSTAMP:20260425T222814
CREATED:20230219T033307Z
LAST-MODIFIED:20230810T184500Z
UID:2180-1696014000-1696021200@strongholdquartet.com
SUMMARY:The Well
DESCRIPTION:Stronghold Quartet\nwill be at\nThe Well\non Friday September 29.\nThere will be a dinner at 6pm and Concert at 7pm.
URL:https://strongholdquartet.com/event/the-well
LOCATION:The Well\, 737 E Beecher St\, Adrian\, MI\, 49221\, United States
ORGANIZER;CN="Randy Holloway":MAILTO:Rdhollo1012@gmail.com
END:VEVENT
BEGIN:VEVENT
DTSTART;TZID=America/Detroit:20230924T180000
DTEND;TZID=America/Detroit:20230924T200000
DTSTAMP:20260425T222814
CREATED:20230114T164054Z
LAST-MODIFIED:20230114T164054Z
UID:2112-1695578400-1695585600@strongholdquartet.com
SUMMARY:Rush Creek Bible Church
DESCRIPTION:
URL:https://strongholdquartet.com/event/rush-creek-bible-church-2
LOCATION:Rush Creek Bible Church\, 2334 76th St SW\, Byron Center\, MI\, 49315\, United States
END:VEVENT
BEGIN:VEVENT
DTSTART;TZID=America/Detroit:20230924T110000
DTEND;TZID=America/Detroit:20230924T123000
DTSTAMP:20260425T222814
CREATED:20230114T164322Z
LAST-MODIFIED:20230114T164322Z
UID:2114-1695553200-1695558600@strongholdquartet.com
SUMMARY:Cornerstone Community Church
DESCRIPTION:
URL:https://strongholdquartet.com/event/cornerstone-community-church-4
LOCATION:Conerstone Community Church\, 3030 Beckley Rd\, Battle Creek\, MI\, 49015\, United States
END:VEVENT
BEGIN:VEVENT
DTSTART;TZID=America/Detroit:20230906T173000
DTEND;TZID=America/Detroit:20230906T193000
DTSTAMP:20260425T222814
CREATED:20221205T025121Z
LAST-MODIFIED:20230128T172007Z
UID:2079-1694021400-1694028600@strongholdquartet.com
SUMMARY:Howell First United Methodist Missionary Dinner
DESCRIPTION:
URL:https://strongholdquartet.com/event/howell-first-united-methodist-mens-dinner
LOCATION:Howell First United Methodist Church\, 1230 Bower St\, Howell\, MI\, 48843\, United States
END:VEVENT
BEGIN:VEVENT
DTSTART;TZID=America/Detroit:20230820T100000
DTEND;TZID=America/Detroit:20230820T120000
DTSTAMP:20260425T222814
CREATED:20221106T001142Z
LAST-MODIFIED:20221106T005259Z
UID:2028-1692525600-1692532800@strongholdquartet.com
SUMMARY:Somerset Beach Free Methodist Church
DESCRIPTION:Stronghold Quartet\nwill be in concert at the\nField House
URL:https://strongholdquartet.com/event/summerset-beach-and-campground-free-methodist-church
LOCATION:Somerset Beach Free Methodist Church\, 9822 Brooklawn Court\, Jerome\, MI\, 49282\, United States
END:VEVENT
BEGIN:VEVENT
DTSTART;TZID=America/Detroit:20230813T193000
DTEND;TZID=America/Detroit:20230813T210000
DTSTAMP:20260425T222814
CREATED:20221205T020045Z
LAST-MODIFIED:20230526T215243Z
UID:2074-1691955000-1691960400@strongholdquartet.com
SUMMARY:Summer Praise
DESCRIPTION:
URL:https://strongholdquartet.com/event/summer-praise-4
LOCATION:Owosso First Church of the Nazarene\, 1865 South M-52\, Owosso\, 48867
END:VEVENT
BEGIN:VEVENT
DTSTART;TZID=America/Detroit:20230813T100000
DTEND;TZID=America/Detroit:20230813T113000
DTSTAMP:20260425T222814
CREATED:20230630T131138Z
LAST-MODIFIED:20230810T184000Z
UID:2260-1691920800-1691926200@strongholdquartet.com
SUMMARY:Lapeer Church of the Nazarene
DESCRIPTION:
URL:https://strongholdquartet.com/event/lapeer-church-of-the-nazarene
LOCATION:Lapeer Church of the Nazarene\, 3521 Fort Knox Dr\, Lapeer\, MI\, 48446\, United States
END:VEVENT
BEGIN:VEVENT
DTSTART;TZID=America/Detroit:20230811T170000
DTEND;TZID=America/Detroit:20230811T190000
DTSTAMP:20260425T222814
CREATED:20221205T014735Z
LAST-MODIFIED:20221205T014735Z
UID:2070-1691773200-1691780400@strongholdquartet.com
SUMMARY:Gun Lake Chapel
DESCRIPTION:
URL:https://strongholdquartet.com/event/gun-lake-chapel-2
LOCATION:Gun Lake Chapel\, 2901 S Patterson Avenue\, Wayland\, MI\, 49348\, United States
END:VEVENT
BEGIN:VEVENT
DTSTART;TZID=America/Detroit:20230730T170000
DTEND;TZID=America/Detroit:20230730T190000
DTSTAMP:20260425T222814
CREATED:20230128T170759Z
LAST-MODIFIED:20230128T170817Z
UID:2130-1690736400-1690743600@strongholdquartet.com
SUMMARY:Swartz Creek United Methodist Church
DESCRIPTION:Stronghold Quartet\nwill perform at the pavilion\nbehind the church\nrain or shine
URL:https://strongholdquartet.com/event/swartz-creek-united-methodist-church-2
LOCATION:Swartz Creek Community Church\, 7400 Miller Road\, Swartz Creek\, MI\, 48473\, United States
END:VEVENT
BEGIN:VEVENT
DTSTART;TZID=America/Detroit:20230711T190000
DTEND;TZID=America/Detroit:20230711T210000
DTSTAMP:20260425T222814
CREATED:20230408T163615Z
LAST-MODIFIED:20230408T164019Z
UID:2227-1689102000-1689109200@strongholdquartet.com
SUMMARY:Fowlerville Community Park
DESCRIPTION:
URL:https://strongholdquartet.com/event/fowlerville-community-park-2
LOCATION:Fowlerville Community Park\, 425 N. Grand St.\, Fowlerville\, MI\, 48836\, United States
END:VEVENT
BEGIN:VEVENT
DTSTART;TZID=America/Detroit:20230604T140000
DTEND;TZID=America/Detroit:20230604T150000
DTSTAMP:20260425T222814
CREATED:20230409T021422Z
LAST-MODIFIED:20230526T214021Z
UID:2237-1685887200-1685890800@strongholdquartet.com
SUMMARY:Livingston Christian Schools Graduation Ceremony
DESCRIPTION:Closed Event
URL:https://strongholdquartet.com/event/livingston-christian-schools-graduation-ceremony
LOCATION:Livingston Christian Schools\, 7669 Brighton Rd\, Brighton\, MI\, 48116\, United States
END:VEVENT
BEGIN:VEVENT
DTSTART;TZID=America/Detroit:20230528T180000
DTEND;TZID=America/Detroit:20230528T200000
DTSTAMP:20260425T222814
CREATED:20221205T015531Z
LAST-MODIFIED:20221205T015531Z
UID:2072-1685296800-1685304000@strongholdquartet.com
SUMMARY:Gun Lake Chapel
DESCRIPTION:
URL:https://strongholdquartet.com/event/gun-lake-chapel
LOCATION:Gun Lake Chapel\, 2901 S Patterson Avenue\, Wayland\, MI\, 49348\, United States
END:VEVENT
BEGIN:VEVENT
DTSTART;TZID=America/Detroit:20230507T180000
DTEND;TZID=America/Detroit:20230507T200000
DTSTAMP:20260425T222814
CREATED:20230409T015946Z
LAST-MODIFIED:20230409T020409Z
UID:2231-1683482400-1683489600@strongholdquartet.com
SUMMARY:The Hub - Owosso First Church of God
DESCRIPTION:
URL:https://strongholdquartet.com/event/the-hub-owosso-first-church-of-god
LOCATION:Owosso First Church of God\, 2100 N M 52\, Owosso\, MI\, 48867\, United States
END:VEVENT
BEGIN:VEVENT
DTSTART;TZID=America/Detroit:20230430T104500
DTEND;TZID=America/Detroit:20230430T120000
DTSTAMP:20260425T222814
CREATED:20230219T025656Z
LAST-MODIFIED:20230301T030113Z
UID:2176-1682851500-1682856000@strongholdquartet.com
SUMMARY:Crossroads Church of God
DESCRIPTION:
URL:https://strongholdquartet.com/event/crossroads-church-of-god
LOCATION:Crossroads Church of God\, 3940 Pinckney Road\, Howell\, MI\, 48843\, United States
END:VEVENT
BEGIN:VEVENT
DTSTART;TZID=America/Detroit:20230416T110000
DTEND;TZID=America/Detroit:20230416T123000
DTSTAMP:20260425T222814
CREATED:20221125T231734Z
LAST-MODIFIED:20221125T231734Z
UID:2056-1681642800-1681648200@strongholdquartet.com
SUMMARY:Hillsdale Community Nazarene Church
DESCRIPTION:
URL:https://strongholdquartet.com/event/hillsdale-community-nazarene-church
LOCATION:Hillsdale Community Church of the Nazarene\, 208 N. West St\, Hillsdale\, MI\, 49242\, United States
END:VEVENT
BEGIN:VEVENT
DTSTART;TZID=America/Detroit:20230326T110000
DTEND;TZID=America/Detroit:20230326T123000
DTSTAMP:20260425T222814
CREATED:20221125T230957Z
LAST-MODIFIED:20221125T230957Z
UID:2052-1679828400-1679833800@strongholdquartet.com
SUMMARY:Millville United Methodist Church
DESCRIPTION:
URL:https://strongholdquartet.com/event/millville-united-methodist-church
LOCATION:Millville United Methodist Church\, 1932 N M-52\, Stockbridge\, MI\, 49285\, United States
END:VEVENT
BEGIN:VEVENT
DTSTART;TZID=America/Detroit:20230319T100000
DTEND;TZID=America/Detroit:20230319T120000
DTSTAMP:20260425T222814
CREATED:20230128T165201Z
LAST-MODIFIED:20230128T165709Z
UID:2125-1679220000-1679227200@strongholdquartet.com
SUMMARY:Liberty Baptist Church
DESCRIPTION:
URL:https://strongholdquartet.com/event/liberty-baptist-church
LOCATION:Liberty Baptist Church\, 599 Chilson Road\, Howell\, MI\, 48843\, United States
END:VEVENT
BEGIN:VEVENT
DTSTART;TZID=America/Detroit:20230226T110000
DTEND;TZID=America/Detroit:20230226T123000
DTSTAMP:20260425T222814
CREATED:20221125T225542Z
LAST-MODIFIED:20221125T225542Z
UID:2050-1677409200-1677414600@strongholdquartet.com
SUMMARY:Ypsilanti Baptist Temple
DESCRIPTION:
URL:https://strongholdquartet.com/event/ypsilanti-baptist-temple-5
LOCATION:Ypsilanti Baptist Temple\, 1325 E Cross St\, Ypsilanti\, MI\, 48198\, United States
END:VEVENT
BEGIN:VEVENT
DTSTART;TZID=America/Detroit:20230212T100000
DTEND;TZID=America/Detroit:20230212T113000
DTSTAMP:20260425T222814
CREATED:20221125T225152Z
LAST-MODIFIED:20221125T225152Z
UID:2048-1676196000-1676201400@strongholdquartet.com
SUMMARY:Beginning In Grace
DESCRIPTION:
URL:https://strongholdquartet.com/event/beginning-in-grace-3
LOCATION:Beginning In Grace\, 200 East River St\, Grand Ledge\, MI\, 48837\, United States
END:VEVENT
BEGIN:VEVENT
DTSTART;TZID=America/Detroit:20230129T110000
DTEND;TZID=America/Detroit:20230129T123000
DTSTAMP:20260425T222814
CREATED:20221125T224448Z
LAST-MODIFIED:20230128T180711Z
UID:2046-1674990000-1674995400@strongholdquartet.com
SUMMARY:Faith Church of Gaines
DESCRIPTION:
URL:https://strongholdquartet.com/event/faith-church-of-gaines-2
LOCATION:Faith Church of Gaines\, 303 Walnut St\, Gaines\, MI\, 48436\, United States
END:VEVENT
END:VCALENDAR